Package: ccmap Version: 1.33.0 Command: chmod a+r ccmap -R && E:\biocbuild\bbs-3.21-bioc\R\bin\R.exe CMD build --keep-empty-dirs --no-resave-data ccmap StartedAt: 2025-02-10 17:52:11 -0500 (Mon, 10 Feb 2025) EndedAt: 2025-02-10 17:54:58 -0500 (Mon, 10 Feb 2025) EllapsedTime: 167.2 seconds RetCode: 0 Status: OK PackageFile: ccmap_1.33.0.tar.gz PackageFileSize: 444.4 KiB