Package: ccmap Version: 1.33.0 Command: E:\biocbuild\bbs-3.21-bioc\R\bin\R.exe CMD INSTALL ccmap StartedAt: 2025-02-10 15:53:42 -0500 (Mon, 10 Feb 2025) EndedAt: 2025-02-10 15:54:02 -0500 (Mon, 10 Feb 2025) EllapsedTime: 19.7 seconds RetCode: 0 Status: OK