Package: ccrepe Version: 1.43.0 Command: /Library/Frameworks/R.framework/Resources/bin/R CMD INSTALL ccrepe StartedAt: 2025-02-12 15:01:04 -0500 (Wed, 12 Feb 2025) EndedAt: 2025-02-12 15:01:08 -0500 (Wed, 12 Feb 2025) EllapsedTime: 4.0 seconds RetCode: 0 Status: OK