Package: ccrepe Version: 1.43.0 Command: /home/biocbuild/bbs-3.21-bioc/R/bin/R CMD INSTALL ccrepe StartedAt: 2025-02-09 15:11:22 -0500 (Sun, 09 Feb 2025) EndedAt: 2025-02-09 15:11:29 -0500 (Sun, 09 Feb 2025) EllapsedTime: 7.1 seconds RetCode: 0 Status: OK