Package: ccrepe Version: 1.43.0 Command: chmod a+r ccrepe -R && E:\biocbuild\bbs-3.21-bioc\R\bin\R.exe CMD build --keep-empty-dirs --no-resave-data ccrepe StartedAt: 2025-02-12 17:44:16 -0500 (Wed, 12 Feb 2025) EndedAt: 2025-02-12 17:45:02 -0500 (Wed, 12 Feb 2025) EllapsedTime: 46.1 seconds RetCode: 0 Status: OK PackageFile: ccrepe_1.43.0.tar.gz PackageFileSize: 305 KiB