Package: ccrepe Version: 1.43.0 Command: E:\biocbuild\bbs-3.21-bioc\R\bin\R.exe CMD check --no-multiarch --install=check:ccrepe.install-out.txt --library=E:\biocbuild\bbs-3.21-bioc\R\library --no-vignettes --timings ccrepe_1.43.0.tar.gz StartedAt: 2025-02-12 23:36:03 -0500 (Wed, 12 Feb 2025) EndedAt: 2025-02-12 23:36:43 -0500 (Wed, 12 Feb 2025) EllapsedTime: 39.7 seconds RetCode: 0 Status: OK CheckDir: ccrepe.Rcheck Warnings: 0