Package: ceRNAnetsim Version: 1.19.0 Command: /home/biocbuild/R/R/bin/R CMD build --keep-empty-dirs --no-resave-data ceRNAnetsim StartedAt: 2025-01-28 21:43:12 -0000 (Tue, 28 Jan 2025) EndedAt: 2025-01-28 21:50:47 -0000 (Tue, 28 Jan 2025) EllapsedTime: 455.1 seconds RetCode: 0 Status: OK PackageFile: ceRNAnetsim_1.19.0.tar.gz PackageFileSize: 2.865 MiB