Package: ceRNAnetsim Version: 1.19.0 Command: /Library/Frameworks/R.framework/Resources/bin/R CMD INSTALL ceRNAnetsim StartedAt: 2025-02-09 15:28:04 -0500 (Sun, 09 Feb 2025) EndedAt: 2025-02-09 15:28:16 -0500 (Sun, 09 Feb 2025) EllapsedTime: 12.3 seconds RetCode: 0 Status: OK