Package: ceRNAnetsim Version: 1.19.0 Command: /home/biocbuild/bbs-3.21-bioc/R/bin/R CMD build --keep-empty-dirs --no-resave-data ceRNAnetsim StartedAt: 2025-02-09 16:35:30 -0500 (Sun, 09 Feb 2025) EndedAt: 2025-02-09 16:40:17 -0500 (Sun, 09 Feb 2025) EllapsedTime: 286.4 seconds RetCode: 0 Status: OK PackageFile: ceRNAnetsim_1.19.0.tar.gz PackageFileSize: 2.965 MiB