Package: ceRNAnetsim Version: 1.19.0 Command: /home/biocbuild/bbs-3.21-bioc/R/bin/R CMD check --install=check:ceRNAnetsim.install-out.txt --library=/home/biocbuild/bbs-3.21-bioc/R/site-library --timings ceRNAnetsim_1.19.0.tar.gz StartedAt: 2025-02-09 20:48:28 -0500 (Sun, 09 Feb 2025) EndedAt: 2025-02-09 20:55:08 -0500 (Sun, 09 Feb 2025) EllapsedTime: 400.6 seconds RetCode: 0 Status: OK CheckDir: ceRNAnetsim.Rcheck Warnings: 0