Package: ceRNAnetsim Version: 1.19.0 Command: rm -rf ceRNAnetsim.buildbin-libdir && mkdir ceRNAnetsim.buildbin-libdir && E:\biocbuild\bbs-3.21-bioc\R\bin\R.exe CMD INSTALL --build --library=ceRNAnetsim.buildbin-libdir ceRNAnetsim_1.19.0.tar.gz StartedAt: 2025-02-10 07:24:56 -0500 (Mon, 10 Feb 2025) EndedAt: 2025-02-10 07:25:21 -0500 (Mon, 10 Feb 2025) EllapsedTime: 25.1 seconds RetCode: 0 Status: OK PackageFile: ceRNAnetsim_1.19.0.zip PackageFileSize: 2.363 MiB