Package: celaref Version: 1.25.0 Maintainer: Sarah Williams MaintainerEmail: sarah.williams1 at monash.edu git_url: https://git.bioconductor.org/packages/celaref git_branch: devel git_last_commit: 34ca877 git_last_commit_date: 2024-10-29 10:30:26 -0500 (Tue, 29 Oct 2024)