Package: celaref Version: 1.25.0 Command: /Library/Frameworks/R.framework/Resources/bin/R CMD check --install=check:celaref.install-out.txt --library=/Library/Frameworks/R.framework/Resources/library --no-vignettes --timings celaref_1.25.0.tar.gz StartedAt: 2025-02-04 18:27:02 -0500 (Tue, 04 Feb 2025) EndedAt: 2025-02-04 18:28:34 -0500 (Tue, 04 Feb 2025) EllapsedTime: 92.2 seconds RetCode: 0 Status: OK CheckDir: celaref.Rcheck Warnings: 0