Package: celaref Version: 1.25.0 Command: /home/biocbuild/R/R/bin/R CMD INSTALL celaref StartedAt: 2025-01-29 19:42:52 -0000 (Wed, 29 Jan 2025) EndedAt: 2025-01-29 19:43:30 -0000 (Wed, 29 Jan 2025) EllapsedTime: 38.1 seconds RetCode: 0 Status: OK