Package: celaref Version: 1.25.0 Command: rm -rf celaref.buildbin-libdir && mkdir celaref.buildbin-libdir && /Users/biocbuild/BBS/utils/build-universal.sh celaref_1.25.0.tar.gz /Library/Frameworks/R.framework/Resources/bin/R celaref.buildbin-libdir StartedAt: 2025-02-05 00:31:58 -0500 (Wed, 05 Feb 2025) EndedAt: 2025-02-05 00:32:38 -0500 (Wed, 05 Feb 2025) EllapsedTime: 39.2 seconds RetCode: 0 Status: OK PackageFile: celaref_1.25.0.tgz PackageFileSize: 3.061 MiB