Package: celaref Version: 1.25.0 Command: rm -rf celaref.buildbin-libdir && mkdir celaref.buildbin-libdir && E:\biocbuild\bbs-3.21-bioc\R\bin\R.exe CMD INSTALL --build --library=celaref.buildbin-libdir celaref_1.25.0.tar.gz StartedAt: 2025-02-05 07:36:25 -0500 (Wed, 05 Feb 2025) EndedAt: 2025-02-05 07:37:26 -0500 (Wed, 05 Feb 2025) EllapsedTime: 61.2 seconds RetCode: 0 Status: OK PackageFile: celaref_1.25.0.zip PackageFileSize: 2.02 MiB