Package: celaref Version: 1.25.0 Command: E:\biocbuild\bbs-3.21-bioc\R\bin\R.exe CMD check --no-multiarch --install=check:celaref.install-out.txt --library=E:\biocbuild\bbs-3.21-bioc\R\library --no-vignettes --timings celaref_1.25.0.tar.gz StartedAt: 2025-02-04 23:53:48 -0500 (Tue, 04 Feb 2025) EndedAt: 2025-02-04 23:58:33 -0500 (Tue, 04 Feb 2025) EllapsedTime: 285.4 seconds RetCode: 0 Status: OK CheckDir: celaref.Rcheck Warnings: 0