Package: celaref Version: 1.25.0 Command: E:\biocbuild\bbs-3.21-bioc\R\bin\R.exe CMD INSTALL celaref StartedAt: 2025-02-04 15:56:40 -0500 (Tue, 04 Feb 2025) EndedAt: 2025-02-04 15:57:25 -0500 (Tue, 04 Feb 2025) EllapsedTime: 44.5 seconds RetCode: 0 Status: OK