Package: celda Version: 1.23.0 Command: rm -rf celda.buildbin-libdir && mkdir celda.buildbin-libdir && /Users/biocbuild/BBS/utils/build-universal.sh celda_1.23.0.tar.gz /Library/Frameworks/R.framework/Resources/bin/R celda.buildbin-libdir StartedAt: 2025-02-09 22:08:38 -0500 (Sun, 09 Feb 2025) EndedAt: 2025-02-09 22:09:02 -0500 (Sun, 09 Feb 2025) EllapsedTime: 23.5 seconds RetCode: 0 Status: OK PackageFile: celda_1.23.0.tgz PackageFileSize: 3.289 MiB