Package: celda Version: 1.23.0 Command: /Library/Frameworks/R.framework/Resources/bin/R CMD INSTALL celda StartedAt: 2025-02-09 15:25:13 -0500 (Sun, 09 Feb 2025) EndedAt: 2025-02-09 15:25:35 -0500 (Sun, 09 Feb 2025) EllapsedTime: 21.7 seconds RetCode: 0 Status: OK