############################################################################## ############################################################################## ### ### Running command: ### ### /home/biocbuild/R/R/bin/R CMD build --keep-empty-dirs --no-resave-data celda ### ############################################################################## ############################################################################## * checking for file ‘celda/DESCRIPTION’ ... OK * preparing ‘celda’: * checking DESCRIPTION meta-information ... OK * cleaning src * installing the package to build vignettes ----------------------------------- ERROR: dependency ‘enrichR’ is not available for package ‘celda’ Perhaps try a variation of: install.packages('enrichR') * removing ‘/home/biocbuild/tmp/RtmpXcQcyS/Rinst4b4ae7da75f64/celda’ ----------------------------------- ERROR: package installation failed