Package: celda Version: 1.23.0 Command: /home/biocbuild/R/R/bin/R CMD build --keep-empty-dirs --no-resave-data celda StartedAt: 2025-01-28 21:37:35 -0000 (Tue, 28 Jan 2025) EndedAt: 2025-01-28 21:37:37 -0000 (Tue, 28 Jan 2025) EllapsedTime: 2.0 seconds RetCode: 1 Status: ERROR PackageFile: None PackageFileSize: NA