Package: celda Version: 1.23.0 Command: rm -rf celda.buildbin-libdir && mkdir celda.buildbin-libdir && /Users/biocbuild/BBS/utils/build-universal.sh celda_1.23.0.tar.gz /Library/Frameworks/R.framework/Resources/bin/R celda.buildbin-libdir StartedAt: 2025-02-10 00:45:30 -0500 (Mon, 10 Feb 2025) EndedAt: 2025-02-10 00:46:54 -0500 (Mon, 10 Feb 2025) EllapsedTime: 84.3 seconds RetCode: 0 Status: OK PackageFile: celda_1.23.0.tgz PackageFileSize: 3.325 MiB