Package: celda Version: 1.23.0 Command: /Library/Frameworks/R.framework/Resources/bin/R CMD build --keep-empty-dirs --no-resave-data celda StartedAt: 2025-02-09 16:11:40 -0500 (Sun, 09 Feb 2025) EndedAt: 2025-02-09 16:17:05 -0500 (Sun, 09 Feb 2025) EllapsedTime: 325.4 seconds RetCode: 0 Status: OK PackageFile: celda_1.23.0.tar.gz PackageFileSize: 2.453 MiB