Package: celda Version: 1.23.0 Command: /home/biocbuild/bbs-3.21-bioc/R/bin/R CMD build --keep-empty-dirs --no-resave-data celda StartedAt: 2025-02-04 16:30:49 -0500 (Tue, 04 Feb 2025) EndedAt: 2025-02-04 16:35:49 -0500 (Tue, 04 Feb 2025) EllapsedTime: 299.5 seconds RetCode: 0 Status: OK PackageFile: celda_1.23.0.tar.gz PackageFileSize: 2.483 MiB