Package: celda Version: 1.23.0 Command: /home/biocbuild/bbs-3.21-bioc/R/bin/R CMD check --install=check:celda.install-out.txt --library=/home/biocbuild/bbs-3.21-bioc/R/site-library --timings celda_1.23.0.tar.gz StartedAt: 2025-02-04 20:42:56 -0500 (Tue, 04 Feb 2025) EndedAt: 2025-02-04 20:52:32 -0500 (Tue, 04 Feb 2025) EllapsedTime: 576.0 seconds RetCode: 1 Status: ERROR CheckDir: celda.Rcheck Warnings: NA