Package: celda Version: 1.23.0 Command: /home/biocbuild/bbs-3.21-bioc/R/bin/R CMD INSTALL celda StartedAt: 2025-02-04 15:52:20 -0500 (Tue, 04 Feb 2025) EndedAt: 2025-02-04 15:53:27 -0500 (Tue, 04 Feb 2025) EllapsedTime: 67.1 seconds RetCode: 0 Status: OK