Package: celda Version: 1.23.0 Command: rm -rf celda.buildbin-libdir && mkdir celda.buildbin-libdir && E:\biocbuild\bbs-3.21-bioc\R\bin\R.exe CMD INSTALL --build --library=celda.buildbin-libdir celda_1.23.0.tar.gz StartedAt: 2025-02-05 07:36:26 -0500 (Wed, 05 Feb 2025) EndedAt: 2025-02-05 07:38:27 -0500 (Wed, 05 Feb 2025) EllapsedTime: 120.4 seconds RetCode: 0 Status: OK PackageFile: celda_1.23.0.zip PackageFileSize: 2.683 MiB