Package: celda Version: 1.23.0 Command: chmod a+r celda -R && E:\biocbuild\bbs-3.21-bioc\R\bin\R.exe CMD build --keep-empty-dirs --no-resave-data celda StartedAt: 2025-02-04 17:40:12 -0500 (Tue, 04 Feb 2025) EndedAt: 2025-02-04 17:48:03 -0500 (Tue, 04 Feb 2025) EllapsedTime: 470.6 seconds RetCode: 0 Status: OK PackageFile: celda_1.23.0.tar.gz PackageFileSize: 1.427 MiB