Package: celda Version: 1.23.0 Command: E:\biocbuild\bbs-3.21-bioc\R\bin\R.exe CMD check --no-multiarch --install=check:celda.install-out.txt --library=E:\biocbuild\bbs-3.21-bioc\R\library --no-vignettes --timings celda_1.23.0.tar.gz StartedAt: 2025-02-04 23:53:51 -0500 (Tue, 04 Feb 2025) EndedAt: 2025-02-05 00:00:19 -0500 (Wed, 05 Feb 2025) EllapsedTime: 387.5 seconds RetCode: 1 Status: ERROR CheckDir: celda.Rcheck Warnings: NA