Package: cellbaseR Version: 1.31.0 Command: rm -rf cellbaseR.buildbin-libdir && mkdir cellbaseR.buildbin-libdir && /Users/biocbuild/BBS/utils/build-universal.sh cellbaseR_1.31.0.tar.gz /Library/Frameworks/R.framework/Resources/bin/R cellbaseR.buildbin-libdir StartedAt: 2025-02-09 22:08:38 -0500 (Sun, 09 Feb 2025) EndedAt: 2025-02-09 22:08:45 -0500 (Sun, 09 Feb 2025) EllapsedTime: 7.2 seconds RetCode: 0 Status: OK PackageFile: cellbaseR_1.31.0.tgz PackageFileSize: 782.6 KiB