Package: cellbaseR Version: 1.31.0 Command: /home/biocbuild/R/R/bin/R CMD build --keep-empty-dirs --no-resave-data cellbaseR StartedAt: 2025-01-28 21:37:55 -0000 (Tue, 28 Jan 2025) EndedAt: 2025-01-28 21:39:18 -0000 (Tue, 28 Jan 2025) EllapsedTime: 83.0 seconds RetCode: 0 Status: OK PackageFile: cellbaseR_1.31.0.tar.gz PackageFileSize: 500.7 KiB