Package: cellbaseR Version: 1.31.0 Command: /home/biocbuild/R/R/bin/R CMD INSTALL cellbaseR StartedAt: 2025-01-29 19:46:53 -0000 (Wed, 29 Jan 2025) EndedAt: 2025-01-29 19:47:13 -0000 (Wed, 29 Jan 2025) EllapsedTime: 19.9 seconds RetCode: 0 Status: OK