Package: cellbaseR Version: 1.31.0 Command: /Library/Frameworks/R.framework/Resources/bin/R CMD build --keep-empty-dirs --no-resave-data cellbaseR StartedAt: 2025-02-04 16:08:59 -0500 (Tue, 04 Feb 2025) EndedAt: 2025-02-04 16:09:53 -0500 (Tue, 04 Feb 2025) EllapsedTime: 53.7 seconds RetCode: 0 Status: OK PackageFile: cellbaseR_1.31.0.tar.gz PackageFileSize: 530.9 KiB