Package: cellbaseR Version: 1.31.0 Command: /Library/Frameworks/R.framework/Resources/bin/R CMD INSTALL cellbaseR StartedAt: 2025-02-04 15:15:02 -0500 (Tue, 04 Feb 2025) EndedAt: 2025-02-04 15:15:22 -0500 (Tue, 04 Feb 2025) EllapsedTime: 19.7 seconds RetCode: 0 Status: OK