Package: cellbaseR Version: 1.31.0 Command: /home/biocbuild/bbs-3.21-bioc/R/bin/R CMD build --keep-empty-dirs --no-resave-data cellbaseR StartedAt: 2025-02-09 16:33:29 -0500 (Sun, 09 Feb 2025) EndedAt: 2025-02-09 16:34:31 -0500 (Sun, 09 Feb 2025) EllapsedTime: 62.0 seconds RetCode: 0 Status: OK PackageFile: cellbaseR_1.31.0.tar.gz PackageFileSize: 520.4 KiB