Package: cellbaseR Version: 1.31.0 Command: /home/biocbuild/bbs-3.21-bioc/R/bin/R CMD check --install=check:cellbaseR.install-out.txt --library=/home/biocbuild/bbs-3.21-bioc/R/site-library --timings cellbaseR_1.31.0.tar.gz StartedAt: 2025-02-04 20:43:20 -0500 (Tue, 04 Feb 2025) EndedAt: 2025-02-04 20:45:40 -0500 (Tue, 04 Feb 2025) EllapsedTime: 140.2 seconds RetCode: 0 Status: OK CheckDir: cellbaseR.Rcheck Warnings: 0