Package: cellbaseR Version: 1.31.0 Command: /home/biocbuild/bbs-3.21-bioc/R/bin/R CMD INSTALL cellbaseR StartedAt: 2025-02-09 15:23:15 -0500 (Sun, 09 Feb 2025) EndedAt: 2025-02-09 15:23:29 -0500 (Sun, 09 Feb 2025) EllapsedTime: 13.6 seconds RetCode: 0 Status: OK