Package: cellbaseR Version: 1.31.0 Command: rm -rf cellbaseR.buildbin-libdir && mkdir cellbaseR.buildbin-libdir && E:\biocbuild\bbs-3.21-bioc\R\bin\R.exe CMD INSTALL --build --library=cellbaseR.buildbin-libdir cellbaseR_1.31.0.tar.gz StartedAt: 2025-02-10 07:24:10 -0500 (Mon, 10 Feb 2025) EndedAt: 2025-02-10 07:24:53 -0500 (Mon, 10 Feb 2025) EllapsedTime: 43.3 seconds RetCode: 0 Status: OK PackageFile: cellbaseR_1.31.0.zip PackageFileSize: 719.7 KiB