Package: cellbaseR Version: 1.31.0 Command: chmod a+r cellbaseR -R && E:\biocbuild\bbs-3.21-bioc\R\bin\R.exe CMD build --keep-empty-dirs --no-resave-data cellbaseR StartedAt: 2025-02-04 17:40:21 -0500 (Tue, 04 Feb 2025) EndedAt: 2025-02-04 17:42:02 -0500 (Tue, 04 Feb 2025) EllapsedTime: 101.0 seconds RetCode: 0 Status: OK PackageFile: cellbaseR_1.31.0.tar.gz PackageFileSize: 464.5 KiB