Package: cellbaseR Version: 1.31.0 Command: E:\biocbuild\bbs-3.21-bioc\R\bin\R.exe CMD INSTALL cellbaseR StartedAt: 2025-02-04 15:40:06 -0500 (Tue, 04 Feb 2025) EndedAt: 2025-02-04 15:41:18 -0500 (Tue, 04 Feb 2025) EllapsedTime: 72.0 seconds RetCode: 0 Status: OK