Package: cellity Version: 1.35.0 Command: /Library/Frameworks/R.framework/Resources/bin/R CMD build --keep-empty-dirs --no-resave-data cellity StartedAt: 2025-02-09 15:49:49 -0500 (Sun, 09 Feb 2025) EndedAt: 2025-02-09 15:50:13 -0500 (Sun, 09 Feb 2025) EllapsedTime: 24.2 seconds RetCode: 0 Status: OK PackageFile: cellity_1.35.0.tar.gz PackageFileSize: 1.244 MiB