Package: cellity Version: 1.35.0 Command: /home/biocbuild/R/R/bin/R CMD build --keep-empty-dirs --no-resave-data cellity StartedAt: 2025-01-28 21:39:24 -0000 (Tue, 28 Jan 2025) EndedAt: 2025-01-28 21:41:01 -0000 (Tue, 28 Jan 2025) EllapsedTime: 97.0 seconds RetCode: 0 Status: OK PackageFile: cellity_1.35.0.tar.gz PackageFileSize: 1.132 MiB