Package: cellity Version: 1.35.0 Command: rm -rf cellity.buildbin-libdir && mkdir cellity.buildbin-libdir && /Users/biocbuild/BBS/utils/build-universal.sh cellity_1.35.0.tar.gz /Library/Frameworks/R.framework/Resources/bin/R cellity.buildbin-libdir StartedAt: 2025-02-10 00:45:36 -0500 (Mon, 10 Feb 2025) EndedAt: 2025-02-10 00:46:02 -0500 (Mon, 10 Feb 2025) EllapsedTime: 26.6 seconds RetCode: 0 Status: OK PackageFile: cellity_1.35.0.tgz PackageFileSize: 1.402 MiB