Package: cellity Version: 1.35.0 Command: /Library/Frameworks/R.framework/Resources/bin/R CMD INSTALL cellity StartedAt: 2025-02-09 15:18:36 -0500 (Sun, 09 Feb 2025) EndedAt: 2025-02-09 15:19:00 -0500 (Sun, 09 Feb 2025) EllapsedTime: 24.2 seconds RetCode: 0 Status: OK