Package: cellity Version: 1.35.0 Command: /home/biocbuild/bbs-3.21-bioc/R/bin/R CMD check --install=check:cellity.install-out.txt --library=/home/biocbuild/bbs-3.21-bioc/R/site-library --timings cellity_1.35.0.tar.gz StartedAt: 2025-02-09 20:46:13 -0500 (Sun, 09 Feb 2025) EndedAt: 2025-02-09 20:49:34 -0500 (Sun, 09 Feb 2025) EllapsedTime: 200.3 seconds RetCode: 0 Status: OK CheckDir: cellity.Rcheck Warnings: 0