Package: cellity Version: 1.35.0 Command: rm -rf cellity.buildbin-libdir && mkdir cellity.buildbin-libdir && E:\biocbuild\bbs-3.21-bioc\R\bin\R.exe CMD INSTALL --build --library=cellity.buildbin-libdir cellity_1.35.0.tar.gz StartedAt: 2025-02-04 07:38:52 -0500 (Tue, 04 Feb 2025) EndedAt: 2025-02-04 07:39:22 -0500 (Tue, 04 Feb 2025) EllapsedTime: 30.2 seconds RetCode: 0 Status: OK PackageFile: cellity_1.35.0.zip PackageFileSize: 1.233 MiB