Package: cellity Version: 1.35.0 Command: E:\biocbuild\bbs-3.21-bioc\R\bin\R.exe CMD check --no-multiarch --install=check:cellity.install-out.txt --library=E:\biocbuild\bbs-3.21-bioc\R\library --no-vignettes --timings cellity_1.35.0.tar.gz StartedAt: 2025-02-03 23:57:25 -0500 (Mon, 03 Feb 2025) EndedAt: 2025-02-04 00:00:41 -0500 (Tue, 04 Feb 2025) EllapsedTime: 195.8 seconds RetCode: 0 Status: OK CheckDir: cellity.Rcheck Warnings: 0