Package: cellity Version: 1.35.0 Command: E:\biocbuild\bbs-3.21-bioc\R\bin\R.exe CMD INSTALL cellity StartedAt: 2025-02-09 15:50:49 -0500 (Sun, 09 Feb 2025) EndedAt: 2025-02-09 15:51:21 -0500 (Sun, 09 Feb 2025) EllapsedTime: 32.6 seconds RetCode: 0 Status: OK