Package: cellmigRation Version: 1.15.0 Command: /Library/Frameworks/R.framework/Resources/bin/R CMD build --keep-empty-dirs --no-resave-data cellmigRation StartedAt: 2025-02-04 15:49:56 -0500 (Tue, 04 Feb 2025) EndedAt: 2025-02-04 15:50:39 -0500 (Tue, 04 Feb 2025) EllapsedTime: 43.5 seconds RetCode: 0 Status: OK PackageFile: cellmigRation_1.15.0.tar.gz PackageFileSize: 1.364 MiB